BEGIN:VCALENDAR
VERSION:2.0
PRODID:-//ASIMET - ECPv6.15.20//NONSGML v1.0//EN
CALSCALE:GREGORIAN
METHOD:PUBLISH
X-WR-CALNAME:ASIMET
X-ORIGINAL-URL:https://www.asimet.cl
X-WR-CALDESC:Eventos para ASIMET
REFRESH-INTERVAL;VALUE=DURATION:PT1H
X-Robots-Tag:noindex
X-PUBLISHED-TTL:PT1H
BEGIN:VTIMEZONE
TZID:America/Santiago
BEGIN:STANDARD
TZOFFSETFROM:-0300
TZOFFSETTO:-0400
TZNAME:-04
DTSTART:20250406T030000
END:STANDARD
BEGIN:DAYLIGHT
TZOFFSETFROM:-0400
TZOFFSETTO:-0300
TZNAME:-03
DTSTART:20250907T040000
END:DAYLIGHT
BEGIN:STANDARD
TZOFFSETFROM:-0300
TZOFFSETTO:-0400
TZNAME:-04
DTSTART:20260405T030000
END:STANDARD
BEGIN:DAYLIGHT
TZOFFSETFROM:-0400
TZOFFSETTO:-0300
TZNAME:-03
DTSTART:20260906T040000
END:DAYLIGHT
BEGIN:STANDARD
TZOFFSETFROM:-0300
TZOFFSETTO:-0400
TZNAME:-04
DTSTART:20270404T030000
END:STANDARD
BEGIN:DAYLIGHT
TZOFFSETFROM:-0400
TZOFFSETTO:-0300
TZNAME:-03
DTSTART:20270905T040000
END:DAYLIGHT
END:VTIMEZONE
BEGIN:VEVENT
DTSTART;TZID=America/Santiago:20260422T083000
DTEND;TZID=America/Santiago:20260422T170000
DTSTAMP:20260421T120840
CREATED:20260421T132536Z
LAST-MODIFIED:20260421T132536Z
UID:14777-1776846600-1776877200@www.asimet.cl
SUMMARY:Visita técnica a Puerto Ventanas
DESCRIPTION:Tenemos el agrado de invitarle a participar de una visita técnica a Puerto Ventanas S.A. \nPuerto Ventanas S.A.\, está ubicado en la Bahía de Quintero\, comuna de Puchuncaví\, Región de Valparaíso\, el puerto cuenta con servicio de muellaje integral y sistemas mecanizados de última generación para almacenamiento y transferencia de carga. Dentro de sus servicios cuenta con Almacenaje\, Estiba y Desestiba\, Transporte Terrestre y Atención de Naves entre otros. \nLa actividad se realizará el día miércoles 22 de abril de 2026 (día completo\, ver programa)\, considerando traslado y alimentación. \n\nEl valor para socios activos es de $48.000 + IVA (Incluye traslados\, desayuno y almuerzo)\nEl valor para socios sin traslado es de $ 23.000 + IVA (Incluye almuerzo)\nLa inscripción es solo contra pago u orden de compra.\nLa anulación de la inscripción se debe realizar máximo 72 horas antes de la Visita.\n\nCupos limitados. \nLa realización de esta actividad está sujeta a la participación de un mínimo de 25 ejecutivos de empresas socias de Asimet. \nPor motivos de seguridad los asistentes deberán portar obligatoriamente calzado de seguridad\, lentes de seguridad y camisas de manga larga. Las damas deberán vestir pantalones\, zapatos bajos y cerrados (de seguridad). \nLas personas interesadas en participar de esta actividad\, favor inscribirse a la brevedad posible a través del siguiente link: http://www2.asimet.cl/visita_tecnica.htm.\, por motivos logísticos sólo se recibirán inscripciones hasta el día viernes 17 de abril de 2026\, o al cumplimiento de las vacantes disponibles (40 personas máximo)
URL:https://www.asimet.cl/event/visita-tecnica-a-puerto-ventanas/
ORGANIZER;CN="Asimet A.G.":MAILTO:asimet@asimet.cl
END:VEVENT
END:VCALENDAR